BEGIN:VCALENDAR
VERSION:2.0
PRODID:-//Programme de formation sur le parrainage privé des réfugiés (PFPR) - ECPv6.5.0//NONSGML v1.0//EN
CALSCALE:GREGORIAN
METHOD:PUBLISH
X-WR-CALNAME:Programme de formation sur le parrainage privé des réfugiés (PFPR)
X-ORIGINAL-URL:https://www.rstp.ca/fr/
X-WR-CALDESC:évènements pour Programme de formation sur le parrainage privé des réfugiés (PFPR)
REFRESH-INTERVAL;VALUE=DURATION:PT1H
X-Robots-Tag:noindex
X-PUBLISHED-TTL:PT1H
BEGIN:VTIMEZONE
TZID:America/Toronto
BEGIN:DAYLIGHT
TZOFFSETFROM:-0500
TZOFFSETTO:-0400
TZNAME:EDT
DTSTART:20230312T070000
END:DAYLIGHT
BEGIN:STANDARD
TZOFFSETFROM:-0400
TZOFFSETTO:-0500
TZNAME:EST
DTSTART:20231105T060000
END:STANDARD
END:VTIMEZONE
BEGIN:VEVENT
DTSTART;TZID=America/Toronto:20231221T160000
DTEND;TZID=America/Toronto:20231221T180000
DTSTAMP:20260419T225153
CREATED:20230516T001550Z
LAST-MODIFIED:20231128T211101Z
UID:19767-1703174400-1703181600@www.rstp.ca
SUMMARY:Conclure une année de parrainage réussie
DESCRIPTION:Que se passe-t-il à la fin de l’année de parrainage? Découvrez la réponse lors de ce webinaire interactif qui illustrera le plan du groupe de parrainage d’Aliya et de la famille parrainée de Samuel pour conclure les 12 mois du parrainage et autonomiser Samuel et Estelle. NB: L’heure de cette séance est indiquée en heure de l’Est\, mais tous les groupes de parrainage au Canada (à l’extérieur du Québec) y sont bienvenus.  \nInscription : https://attendee.gotowebinar.com/register/5317547630068418397
URL:https://www.rstp.ca/fr/event/conclure-une-annee-de-parrainage-reussie/
LOCATION:En virtuel
CATEGORIES:Webinaires
END:VEVENT
END:VCALENDAR