BEGIN:VCALENDAR
VERSION:2.0
PRODID:-//Programme de formation sur le parrainage privé des réfugiés (PFPR) - ECPv6.5.0//NONSGML v1.0//EN
CALSCALE:GREGORIAN
METHOD:PUBLISH
X-ORIGINAL-URL:https://www.rstp.ca/fr/
X-WR-CALDESC:évènements pour Programme de formation sur le parrainage privé des réfugiés (PFPR)
REFRESH-INTERVAL;VALUE=DURATION:PT1H
X-Robots-Tag:noindex
X-PUBLISHED-TTL:PT1H
BEGIN:VTIMEZONE
TZID:America/Toronto
BEGIN:DAYLIGHT
TZOFFSETFROM:-0500
TZOFFSETTO:-0400
TZNAME:EDT
DTSTART:20230312T070000
END:DAYLIGHT
BEGIN:STANDARD
TZOFFSETFROM:-0400
TZOFFSETTO:-0500
TZNAME:EST
DTSTART:20231105T060000
END:STANDARD
END:VTIMEZONE
BEGIN:VEVENT
DTSTART;TZID=America/Toronto:20231128T180000
DTEND;TZID=America/Toronto:20231128T200000
DTSTAMP:20260419T225556
CREATED:20231116T164626Z
LAST-MODIFIED:20231121T015034Z
UID:20395-1701194400-1701201600@www.rstp.ca
SUMMARY:Visite guidée du Portail numérique de résidence permanente – Groupe de cinq et Répondants communautaires
DESCRIPTION:Joignez-vous à ce webinaire pour découvrir comment soumettre une demande de parrainage privé de réfugiés au moyen du nouveau Portail numérique de résidence permanente d’IRCC. Obtenez toutes les informations dont vous avez besoin pour utiliser efficacement ce portail. \nInscription : https://attendee.gotowebinar.com/register/5321677394014420572
URL:https://www.rstp.ca/fr/event/visite-guidee-du-portail-numerique-de-residence-permanente-groupe-de-cinq-et-repondants-communautaires/
LOCATION:En virtuel
CATEGORIES:Webinaires
ATTACH;FMTTYPE=image/jpeg:https://www.rstp.ca/wp-content/uploads/2023/11/Procedure-pas-a-pas-du-portail-numerique-pour-les-groupes-de-cinq-et-les-sponsors-communautaires.jpg
END:VEVENT
END:VCALENDAR