BEGIN:VCALENDAR
VERSION:2.0
PRODID:-//Programme de formation sur le parrainage privé des réfugiés (PFPR) - ECPv6.5.0//NONSGML v1.0//EN
CALSCALE:GREGORIAN
METHOD:PUBLISH
X-WR-CALNAME:Programme de formation sur le parrainage privé des réfugiés (PFPR)
X-ORIGINAL-URL:https://www.rstp.ca/fr/
X-WR-CALDESC:évènements pour Programme de formation sur le parrainage privé des réfugiés (PFPR)
REFRESH-INTERVAL;VALUE=DURATION:PT1H
X-Robots-Tag:noindex
X-PUBLISHED-TTL:PT1H
BEGIN:VTIMEZONE
TZID:America/Toronto
BEGIN:DAYLIGHT
TZOFFSETFROM:-0500
TZOFFSETTO:-0400
TZNAME:EDT
DTSTART:20230312T070000
END:DAYLIGHT
BEGIN:STANDARD
TZOFFSETFROM:-0400
TZOFFSETTO:-0500
TZNAME:EST
DTSTART:20231105T060000
END:STANDARD
END:VTIMEZONE
BEGIN:VEVENT
DTSTART;TZID=America/Toronto:20231206T160000
DTEND;TZID=America/Toronto:20231206T180000
DTSTAMP:20260419T210951
CREATED:20231128T205118Z
LAST-MODIFIED:20231128T205755Z
UID:20441-1701878400-1701885600@www.rstp.ca
SUMMARY:Avant de présenter une demande de parrainage
DESCRIPTION:Joignez-vous à Aliya pour découvrir les principes fondamentaux du parrainage de réfugiés : qui peut être parrainé en tant que réfugié\, qui peut parrainer\, combien coûte un parrainage\, et quelles sont les étapes du traitement d’une demande. NB: L’heure de cette séance est indiquée en heure de l’Est\, mais tous les groupes de parrainage au Canada (à l’extérieur du Québec) y sont bienvenus. \nInscription : https://attendee.gotowebinar.com/register/4761557585249879641  \n 
URL:https://www.rstp.ca/fr/event/avant-de-presenter-une-demande-de-parrainage-3/
LOCATION:En virtuel
CATEGORIES:Webinaires,Groupes de cinq,Répondants communautaires
END:VEVENT
BEGIN:VEVENT
DTSTART;TZID=America/Toronto:20231207T160000
DTEND;TZID=America/Toronto:20231207T180000
DTSTAMP:20260419T210951
CREATED:20230515T234305Z
LAST-MODIFIED:20231128T211316Z
UID:19759-1701964800-1701972000@www.rstp.ca
SUMMARY:Préparer un plan d’établissement
DESCRIPTION:Continuez votre apprentissage en compagnie des membres du groupe de parrainage d’Aliya! Dans ce webinaire\, ils apprendront pourquoi le plan d’établissement est un élément central de la demande de parrainage\, comment préparer le budget de la demande\, pourquoi il est important de prévoir un plan d’urgence\, où trouver le guide de demande pertinent – et comment y trouver facilement les renseignements recherchés! NB : L’heure de cette séance est indiquée en heure de l’Est\, mais tous les groupes de parrainage au Canada (à l’extérieur du Québec) y sont bienvenus. \nInscription :  https://attendee.gotowebinar.com/register/6221582583099625567
URL:https://www.rstp.ca/fr/event/preparer-un-plan-detablissement/
LOCATION:En virtuel
CATEGORIES:Webinaires,Groupes de cinq,Répondants communautaires
END:VEVENT
BEGIN:VEVENT
DTSTART;TZID=America/Toronto:20231211T160000
DTEND;TZID=America/Toronto:20231211T180000
DTSTAMP:20260419T210951
CREATED:20230515T235504Z
LAST-MODIFIED:20231128T211042Z
UID:19761-1702310400-1702317600@www.rstp.ca
SUMMARY:Augmentez les chances de succès de votre demande
DESCRIPTION:Aliya et son groupe sont prêts à remplir leur demande de parrainage! En compagnie de notre groupe de parrainage\, découvrez les éléments à joindre à la demande et les raisons les plus courantes du retour ou du refus des demandes. NB: L’heure de cette séance est indiquée en heure de l’Est\, mais tous les groupes de parrainage au Canada (à l’extérieur du Québec) y sont bienvenus. \nInscription : https://attendee.gotowebinar.com/register/4365081388856142680
URL:https://www.rstp.ca/fr/event/augmentez-les-chances-de-succes-de-votre-demande/
LOCATION:En virtuel
CATEGORIES:Webinaires,Groupes de cinq,Répondants communautaires
END:VEVENT
BEGIN:VEVENT
DTSTART;TZID=America/Toronto:20231213T160000
DTEND;TZID=America/Toronto:20231213T180000
DTSTAMP:20260419T210951
CREATED:20230516T000712Z
LAST-MODIFIED:20231128T211141Z
UID:19763-1702483200-1702490400@www.rstp.ca
SUMMARY:Se préparer pour l’arrivée et l’orientation
DESCRIPTION:Le groupe d’Aliya a reçu une excellente nouvelle : le frère d’Aliya et sa famille arriveront bientôt au Canada! Suivez le Groupe de cinq d’Aliya alors qu’il se prépare à accueillir et à orienter Samuel\, Estelle et leurs 2 enfants. Le webinaire présentera une récapitulation des responsabilités des groupes de parrainage\, décrira certaines questions épineuses d’ordre éthique qui peuvent surgir dans un parrainage de réfugiés (dont le déséquilibre de pouvoir) ainsi que des pistes de solutions\, et expliquera l’importance de la gestion des attentes. NB: L’heure de cette séance est indiquée en heure de l’Est\, mais tous les groupes de parrainage au Canada (à l’extérieur du Québec) y sont bienvenus. \nInscription : https://attendee.gotowebinar.com/register/5808428994335392344
URL:https://www.rstp.ca/fr/event/se-preparer-pour-larrivee-et-lorientation/
LOCATION:En virtuel
CATEGORIES:Webinaires
END:VEVENT
BEGIN:VEVENT
DTSTART;TZID=America/Toronto:20231219T160000
DTEND;TZID=America/Toronto:20231219T180000
DTSTAMP:20260419T210951
CREATED:20230516T001444Z
LAST-MODIFIED:20231128T211123Z
UID:19765-1703001600-1703008800@www.rstp.ca
SUMMARY:L’accomplissement des obligations et l’assurance
DESCRIPTION:Notre groupe de parrainage a reçu une demande d’information d’IRCC! Apprenez avec Aliya et son groupe comment documenter vos activités de parrainage et comment répondre aux demandes d’IRCC. Vous découvrirez également les objectifs et le processus du programme d’assurance. NB: L’heure de cette séance est indiquée en heure de l’Est\, mais tous les groupes de parrainage au Canada (à l’extérieur du Québec) y sont bienvenus. \nInscription : https://attendee.gotowebinar.com/register/8838126687602510942
URL:https://www.rstp.ca/fr/event/laccomplissement-des-obligations-et-lassurance/
LOCATION:En virtuel
CATEGORIES:Webinaires,Groupes de cinq,Répondants communautaires
END:VEVENT
BEGIN:VEVENT
DTSTART;TZID=America/Toronto:20231221T160000
DTEND;TZID=America/Toronto:20231221T180000
DTSTAMP:20260419T210951
CREATED:20230516T001550Z
LAST-MODIFIED:20231128T211101Z
UID:19767-1703174400-1703181600@www.rstp.ca
SUMMARY:Conclure une année de parrainage réussie
DESCRIPTION:Que se passe-t-il à la fin de l’année de parrainage? Découvrez la réponse lors de ce webinaire interactif qui illustrera le plan du groupe de parrainage d’Aliya et de la famille parrainée de Samuel pour conclure les 12 mois du parrainage et autonomiser Samuel et Estelle. NB: L’heure de cette séance est indiquée en heure de l’Est\, mais tous les groupes de parrainage au Canada (à l’extérieur du Québec) y sont bienvenus.  \nInscription : https://attendee.gotowebinar.com/register/5317547630068418397
URL:https://www.rstp.ca/fr/event/conclure-une-annee-de-parrainage-reussie/
LOCATION:En virtuel
CATEGORIES:Webinaires
END:VEVENT
END:VCALENDAR