BEGIN:VCALENDAR
VERSION:2.0
PRODID:-//Programme de formation sur le parrainage privé des réfugiés (PFPR) - ECPv6.5.0//NONSGML v1.0//EN
CALSCALE:GREGORIAN
METHOD:PUBLISH
X-WR-CALNAME:Programme de formation sur le parrainage privé des réfugiés (PFPR)
X-ORIGINAL-URL:https://www.rstp.ca/fr/
X-WR-CALDESC:évènements pour Programme de formation sur le parrainage privé des réfugiés (PFPR)
REFRESH-INTERVAL;VALUE=DURATION:PT1H
X-Robots-Tag:noindex
X-PUBLISHED-TTL:PT1H
BEGIN:VTIMEZONE
TZID:America/Vancouver
BEGIN:DAYLIGHT
TZOFFSETFROM:-0800
TZOFFSETTO:-0700
TZNAME:PDT
DTSTART:20230312T100000
END:DAYLIGHT
BEGIN:STANDARD
TZOFFSETFROM:-0700
TZOFFSETTO:-0800
TZNAME:PST
DTSTART:20231105T090000
END:STANDARD
TZID:America/Toronto
BEGIN:DAYLIGHT
TZOFFSETFROM:-0500
TZOFFSETTO:-0400
TZNAME:EDT
DTSTART:20230312T070000
END:DAYLIGHT
BEGIN:STANDARD
TZOFFSETFROM:-0400
TZOFFSETTO:-0500
TZNAME:EST
DTSTART:20231105T060000
END:STANDARD
END:VTIMEZONE
BEGIN:VEVENT
DTSTART;TZID=America/Vancouver:20231107T110000
DTEND;TZID=America/Vancouver:20231107T123000
DTSTAMP:20260419T224720
CREATED:20231025T200238Z
LAST-MODIFIED:20231025T200344Z
UID:20288-1699354800-1699360200@www.rstp.ca
SUMMARY:Guide complet du parrainage privé de réfugiés
DESCRIPTION:Vous envisagez de parrainer des réfugiés qui souhaitent s’installer au Canada ? Vous vous demandez quels sont les critères d’éligibilité et comment faire une demande pour ce noble acte d’accueil et de soutien ? \nRejoignez notre webinaire « Guide complet du parrainage privé de réfugiés »\, présenté en collaboration avec Le Relais francophone de la Colombie-Britannique\,  pour obtenir des réponses à toutes vos questions. \nAu cours de cette session\, vous découvrirez : \n\nLes étapes clés pour parrainer des réfugiés depuis l’étranger.\nLes critères d’éligibilité pour les parrains et les réfugiés.\nLes ressources et le soutien disponibles pour faciliter le processus.\n\nRejoignez-nous le 7 novembre 2023\, de 11h00 à 12h30 (heure du Pacifique)\, en ligne\, et faites le premier pas vers un acte de solidarité qui peut changer des vies. Inscrivez-vous dès maintenant pour réserver votre place ! \nContact et informations : Ian Irabaganje – ian.irabaganje@lerelaiscb.ca – 604-345-5248
URL:https://www.rstp.ca/fr/event/guide-complet-du-parrainage-prive-de-refugies/
LOCATION:En virtuel
CATEGORIES:Atelier,Webinaires
ATTACH;FMTTYPE=image/jpeg:https://www.rstp.ca/wp-content/uploads/2023/10/Affiche-100.jpg
END:VEVENT
BEGIN:VEVENT
DTSTART;TZID=America/Toronto:20231123T180000
DTEND;TZID=America/Toronto:20231123T180000
DTSTAMP:20260419T224720
CREATED:20231116T164303Z
LAST-MODIFIED:20231121T014951Z
UID:20393-1700762400-1700762400@www.rstp.ca
SUMMARY:Visite guidée du Portail de résidence permanente – Représentants en immigration
DESCRIPTION:Les avocat.e.s et consultant.e.s en immigration sont invités à participer à ce webinaire qui expliquera comment soumettre une demande de parrainage privé de réfugiés au moyen du nouveau Portail numérique de résidence permanente d’IRCC. Joignez-vous à nous pour obtenir toutes les informations dont vous avez besoin pour appuyer vos clients! \nInscription : https://attendee.gotowebinar.com/register/134327769880319069
URL:https://www.rstp.ca/fr/event/visite-guidee-du-portail-de-residence-permanente-representants-en-immigration/
LOCATION:En virtuel
CATEGORIES:Webinaires
ATTACH;FMTTYPE=image/jpeg:https://www.rstp.ca/wp-content/uploads/2023/11/Visite-guidee-du-Portail-numerique-pour-les-Groupes-de-cinq-et-Repondants-communautaires.jpg
END:VEVENT
BEGIN:VEVENT
DTSTART;TZID=America/Toronto:20231128T180000
DTEND;TZID=America/Toronto:20231128T200000
DTSTAMP:20260419T224720
CREATED:20231116T164626Z
LAST-MODIFIED:20231121T015034Z
UID:20395-1701194400-1701201600@www.rstp.ca
SUMMARY:Visite guidée du Portail numérique de résidence permanente – Groupe de cinq et Répondants communautaires
DESCRIPTION:Joignez-vous à ce webinaire pour découvrir comment soumettre une demande de parrainage privé de réfugiés au moyen du nouveau Portail numérique de résidence permanente d’IRCC. Obtenez toutes les informations dont vous avez besoin pour utiliser efficacement ce portail. \nInscription : https://attendee.gotowebinar.com/register/5321677394014420572
URL:https://www.rstp.ca/fr/event/visite-guidee-du-portail-numerique-de-residence-permanente-groupe-de-cinq-et-repondants-communautaires/
LOCATION:En virtuel
CATEGORIES:Webinaires
ATTACH;FMTTYPE=image/jpeg:https://www.rstp.ca/wp-content/uploads/2023/11/Procedure-pas-a-pas-du-portail-numerique-pour-les-groupes-de-cinq-et-les-sponsors-communautaires.jpg
END:VEVENT
END:VCALENDAR