BEGIN:VCALENDAR
VERSION:2.0
PRODID:-//Refugee Sponsorship Training Program (RSTP) - ECPv6.5.0//NONSGML v1.0//EN
CALSCALE:GREGORIAN
METHOD:PUBLISH
X-WR-CALNAME:Refugee Sponsorship Training Program (RSTP)
X-ORIGINAL-URL:https://www.rstp.ca/en/
X-WR-CALDESC:Events for Refugee Sponsorship Training Program (RSTP)
REFRESH-INTERVAL;VALUE=DURATION:PT1H
X-Robots-Tag:noindex
X-PUBLISHED-TTL:PT1H
BEGIN:VTIMEZONE
TZID:America/New_York
BEGIN:DAYLIGHT
TZOFFSETFROM:-0500
TZOFFSETTO:-0400
TZNAME:EDT
DTSTART:20260308T070000
END:DAYLIGHT
BEGIN:STANDARD
TZOFFSETFROM:-0400
TZOFFSETTO:-0500
TZNAME:EST
DTSTART:20261101T060000
END:STANDARD
END:VTIMEZONE
BEGIN:VEVENT
DTSTART;TZID=America/New_York:20260422T180000
DTEND;TZID=America/New_York:20260422T193000
DTSTAMP:20260420T074137
CREATED:20260331T173619Z
LAST-MODIFIED:20260331T185351Z
UID:24653-1776880800-1776886200@www.rstp.ca
SUMMARY:National webinar: '‘Addressing Secondary Migration: what sponsors need to know’
DESCRIPTION:This webinar is for:\n All sponsorship group types (including SAHs and their CG’s and Co-sponsors\, Groups of Five\, Community Sponsors)\n  PSR program only\n  \nThis webinar provides an overview of secondary migration among Privately Sponsored Refugees (PSRs)\, focusing on the implications for sponsors and newcomers. Participants will learn how to manage sponsorship responsibilities when refugees move to a different community\, understand reporting and communication procedures\, and explore best practices for supporting successful resettlement after relocation. \nRegister Here
URL:https://www.rstp.ca/en/event/national-webinar-addressing-secondary-migration-what-sponsors-need-to-know/
LOCATION:Virtual
ATTACH;FMTTYPE=image/jpeg:https://www.rstp.ca/wp-content/uploads/2026/03/Secondary-Migration.jpg
END:VEVENT
END:VCALENDAR